Workbook

Sheet 2018
A1: Lietuvos apeliacinio teismo teisėjų, valstybės tarnautojų ir darbotuojų, dirbančių pagal darbo sutartis, vidutinis menesinis darbo užmokestis
A3: Eil. Nr. | B3: Pareigybės pavadinimas | C3: 2017 m. darbo užmokestis | D3: 2018 m. | L3: 2018 m. vidutinis darbo užmokestis
D4: Ketvirčiai
D5: I ketvirtis | F5: II ketvirtis | H5: III ketvirtis | J5: IV ketvirtis
D6: Vidutinis darbo užmokestis | E6: Pareigybių skaičius | F6: Vidutinis darbo užmokestis | G6: Pareigybių skaičius | H6: Vidutinis darbo užmokestis | I6: Pareigybių skaičius | J6: Vidutinis darbo užmokestis | K6: Pareigybių skaičius
A7: 1 | B7: 2 | C7: 3 | D7: 4 | E7: 5 | F7: 6 | G7: 7 | H7: 8 | I7: 9 | J7: 10 | K7: 11 | L7: 12
A8: 3427
A9: 1 | B9: Teismo pirmininkas | C9: ='2017'!L9 -> 3307 | D9: 3399 | E9: 1 | F9: 3399 | G9: 1 | H9: 3441 | I9: 1 | J9: 3427 | K9: 1 | L9: =(D9+F9+H9+J9)/$M$9 -> 3416.5 | M9: 4
A10: 2 | B10: Teismo skyriaus pirmininkas | C10: ='2017'!L10 -> 2914.8475 | D10: 2975 | E10: 2 | F10: 2981 | G10: 2 | H10: 3002 | I10: 2 | J10: 2951 | K10: 2 | L10: =(D10+F10+H10+J10)/$M$9 -> 2977.25
A11: 3 | B11: Teismo teisėjas | C11: ='2017'!L11 -> 2959 | D11: 2980 | E11: 28 | F11: 2984 | G11: 30 | H11: 2988 | I11: 30 | J11: 3273 | K11: 3 | L11: =(D11+F11+H11+J11)/$M$9 -> 3056.25
A12: Valstybės tarnautojai
A13: 4 | B13: Teismo pirmininko patarėjas | C13: neskelbiama | D13: neskelbiama | F13: neskelbiama | H13: neskelbiama | J13: neskelbiama | L13: neskelbiama
A14: 5 | B14: Teismo pirmininko (skyriaus pirmininko) padėjėjas | C14: ='2017'!L14 -> 1420.5 | D14: 1324 | E14: 3 | F14: 1390 | G14: 3 | H14: 1412 | I14: 3 | J14: 1622 | K14: 3 | L14: =(D14+F14+H14+J14)/$M$9 -> 1437 | N14: 4
A15: 6 | B15: Teismo pirminko padėjėjas ryšiams su visuomene | C15: neskelbiama | D15: neskelbiama | F15: neskelbiama | H15: neskelbiama | J15: neskelbiama | L15: neskelbiama
A16: 7 | B16: Teismo kancleris | C16: neskelbiama | D16: neskelbiama | F16: neskelbiama | H16: neskelbiama | J16: neskelbiama | L16: neskelbiama
A17: 8 | B17: Skyriaus pirmininko patarėjas | C17: ='2017'!L17 -> 1430.75 | D17: 1751 | E17: 2 | F17: 1811 | G17: 2 | H17: 1764 | I17: 2 | J17: 2206 | K17: 2 | L17: =(D17+F17+H17+J17)/$M$9 -> 1883
A18: 9 | B18: Teisėjo padėjėjas | C18: ='2017'!L18 -> 1202.25 | D18: 1195 | E18: 50 | F18: 1179 | G18: 46 | H18: 1245 | I18: 48 | J18: 1390 | K18: 48 | L18: =(D18+F18+H18+J18)/$M$9 -> 1252.25
A19: 10 | B19: Teismų praktikos skyriaus konsultantas | C19: ='2017'!L19 -> 964.75 | D19: 1040 | E19: 4 | F19: 1065 | G19: 4 | H19: 979 | I19: 4 | J19: 813 | K19: 6 | L19: =(D19+F19+H19+J19)/$M$9 -> 974.25
A20: 11 | B20: Skyriaus vedėjai | C20: 1750 | D20: 1641 | E20: 3 | F20: 1521 | G20: 3 | H20: 1824 | I20: 4 | J20: 1904 | K20: 4 | L20: =(D20+F20+H20+J20)/$M$9 -> 1722.5
A21: 12 | B21: Raštinės vedėjo pav. | C21: ='2017'!L21 -> 1078.75 | D21: neskelbiama | F21: neskelbiama | H21: neskelbiama | J21: neskelbiama | L21: neskelbiama
A22: 13 | B22: Vyriausias specialistas | C22: ='2017'!L22 -> 1090.75 | D22: 1140 | E22: 5 | F22: 1190 | G22: 4 | H22: 1172 | I22: 4 | J22: 1430 | K22: 4 | L22: =(D22+F22+H22+J22)/$M$9 -> 1233
A23: 14 | B23: Vyresnysis specialistas | C23: ='2017'!L23 -> 1026 | D23: 946 | E23: 5 | F23: 1065 | G23: 6 | H23: 1018 | I23: 5 | J23: 1429 | K23: 4 | L23: =(D23+F23+H23+J23)/$M$9 -> 1114.5
A24: 15 | B24: Teismo posėdžių sekretorius | C24: ='2017'!L24 -> 819 | D24: 772 | E24: 9 | F24: 809 | G24: 9 | H24: 867 | I24: 9 | J24: 941 | K24: 9 | L24: =(D24+F24+H24+J24)/$M$9 -> 847.25
A25: 16 | B25: Specialistas | D25: neskelbiama | F25: neskelbiama | H25: neskelbiama | J25: neskelbiama | L25: neskelbiama
A26: Darbuotojai, dirbantys pagal darbo sutartis
A27: 16 | B27: Skyriaus vedėjas | C27: neskelbiama | D27: neskelbiama | F27: neskelbiama | H27: neskelbiama | J27: _ | L27: neskelbiama
A28: 17 | B28: Teismo pirmininko referentas | C28: neskelbiama | D28: neskelbiama | F28: neskelbiama | H28: neskelbiama | J28: neskelbiama | L28: neskelbiama
A29: 18 | B29: Teisininkai | C29: ='2017'!L28 -> 921 | D29: neskelbiama | G29: - | H29: neskelbiama | I29: - | J29: neskelbiama | L29: neskelbiama
A30: 19 | B30: Vyriausiasis vertėjas | C30: ='2017'!L29 -> 705.75 | D30: 657 | E30: 3 | F30: 737 | G30: 3 | H30: 697 | I30: 3 | J30: 788 | K30: 3 | L30: =(D30+F30+H30+J30)/$M$9 -> 719.75
A31: 20 | B31: Vyriausias specialistas | C31: ='2017'!L30 -> 922.25 | D31: 816 | E31: 6 | F31: 943 | G31: 5 | H31: 1093 | I31: 5 | J31: 919 | K31: 7 | L31: =(D31+F31+H31+J31)/$M$9 -> 942.75
A32: 21 | B32: Vyresnysis specialistas | C32: ='2017'!L31 -> 706 | G32: - | I32: - | J32: neskelbiama | L32: neskelbiama
A33: 22 | B33: Specialistas | C33: ='2017'!L32 -> 489.25 | D33: 499 | E33: 2 | F33: 511 | G33: 2 | H33: 766 | I33: 3 | J33: 605 | K33: 2 | L33: =(D33+F33+H33+J33)/$M$9 -> 595.25
A34: 23 | B34: Valytojas | C34: ='2017'!L33 -> 425 | D34: 378 | E34: 4 | F34: 414 | G34: 4 | H34: 422 | I34: 4 | J34: 425 | K34: 4 | L34: =(D34+F34+H34+J34)/$M$9 -> 409.75

Sheet 2017
A1: Lietuvos apeliacinio teismo teisėjų, valstybės tarnautojų ir darbotuojų, dirbančių pagal darbo sutartis, vidutinis menesinis darbo užmokestis
A3: Eil. Nr. | B3: Pareigybės pavadinimas | C3: 2016 m. darbo užmokestis | D3: 2017 m. | L3: 2017 m. vidutinis darbo užmokestis
D4: Ketvirčiai
D5: I ketvirtis | F5: II ketvirtis | H5: III ketvirtis | J5: IV ketvirtis
D6: Vidutinis darbo užmokestis | E6: Pareigybių skaičius | F6: Vidutinis darbo užmokestis | G6: Pareigybių skaičius | H6: Vidutinis darbo užmokestis | I6: Pareigybių skaičius | J6: Vidutinis darbo užmokestis | K6: Pareigybių skaičius
A7: 1 | B7: 2 | C7: 3 | D7: 4 | E7: 5 | F7: 6 | G7: 7 | H7: 8 | I7: 9 | J7: 10 | K7: 11 | L7: 12
A8: Teisėjai
A9: 1 | B9: Teismo pirmininkas | C9: 3267 | D9: 3269 | E9: 1 | F9: 3309 | G9: 1 | H9: 3302.86 | I9: 1 | J9: 3347 | K9: 1 | L9: 3307
A10: 2 | B10: Teismo skyriaus pirmininkas | C10: 2868 | D10: 2866 | E10: 2 | F10: 2910 | G10: 2 | H10: 2963.39 | I10: 2 | J10: 2920 | K10: 2 | L10: =(D10+F10+H10+J10)/$N$14 -> 2914.8475
A11: 3 | B11: Teismo teisėjas | C11: 2887 | D11: 2916 | E11: 30 | F11: 3039 | G11: 30 | H11: 2931 | I11: 28 | J11: 2950 | K11: 27 | L11: =(D11+F11+H11+J11)/$N$14 -> 2959
A12: Valstybės tarnautojai
A13: 4 | B13: Teismo pirmininko patarėjas | C13: neskelbiama | D13: neskelbiama | F13: neskelbiama | H13: neskelbiama | J13: neskelbiama | L13: neskelbiama
A14: 5 | B14: Teismo pirmininko (skyriaus pirmininko) padėjėjas | C14: 1396 | D14: 1328 | E14: 3 | F14: 1337 | G14: 3 | H14: 1331 | I14: 3 | J14: 1686 | K14: 3 | L14: =(D14+F14+H14+J14)/$N$14 -> 1420.5 | N14: 4
A15: 6 | B15: Teismo pirminko padėjėjas ryšiams su visuomene | C15: neskelbiama | D15: neskelbiama | F15: neskelbiama | H15: neskelbiama | J15: neskelbiama
A16: 7 | B16: Teismo kancleris | C16: neskelbiama | D16: neskelbiama | F16: neskelbiama | H16: neskelbiama | J16: neskelbiama
A17: 8 | B17: Skyriaus pirmininko patarėjas | C17: 1543 | D17: 1269 | E17: 2 | F17: 789 | G17: 2 | H17: 1711 | I17: 2 | J17: 1954 | K17: 2 | L17: =(D17+F17+H17+J17)/$N$14 -> 1430.75
A18: 9 | B18: Teisėjo padėjėjas | C18: 1199 | D18: 1179 | E18: 47 | F18: 1120 | G18: 46 | H18: 1113 | I18: 47 | J18: 1397 | K18: 48 | L18: =(D18+F18+H18+J18)/$N$14 -> 1202.25
A19: 10 | B19: Teismų praktikos skyriaus konsultantas | C19: 1032 | D19: 963 | E19: 4 | F19: 1033 | G19: 3 | H19: 899 | I19: 3 | J19: 964 | K19: 4 | L19: =(D19+F19+H19+J19)/$N$14 -> 964.75
A20: 11 | B20: Skyriaus vedėjai | C20: 1685 | D20: 1641 | E20: 4 | F20: 1634 | G20: 4 | H20: 1652 | I20: 4 | J20: 1883 | K20: 4 | L20: =(D20+F20+H20+J20)/$N$14 -> 1702.5
A21: 12 | B21: Raštinės vedėjas | C21: 1333 | D21: 1253 | E21: 2 | F21: 889 | G21: 2 | H21: 1063 | I21: 2 | J21: 1110 | K21: 2 | L21: =(D21+F21+H21+J21)/$N$14 -> 1078.75
A22: 13 | B22: Vyriausias specialistas | C22: 1065 | D22: 1027 | E22: 3 | F22: 1020 | G22: 3 | H22: 1065 | I22: 3 | J22: 1251 | K22: 4 | L22: =(D22+F22+H22+J22)/$N$14 -> 1090.75
A23: 14 | B23: Vyresnysis specialistas | C23: 908 | D23: 956 | E23: 5 | F23: 947 | G23: 5 | H23: 982 | I23: 5 | J23: 1219 | K23: 5 | L23: =(D23+F23+H23+J23)/$N$14 -> 1026
A24: 15 | B24: Teismo posėdžių sekretorius | C24: 789 | D24: 764 | E24: 10 | F24: 797 | G24: 10 | H24: 797 | I24: 10 | J24: 918 | K24: 10 | L24: =(D24+F24+H24+J24)/$N$14 -> 819
A25: Darbuotojai, dirbantys pagal darbo sutartis
A26: 16 | B26: Skyriaus vedėjas | C26: neskelbiama | D26: neskelbiama | F26: neskelbiama | H26: neskelbiama | J26: neskelbiama
A27: 17 | B27: Teismo pirmininko referentas | C27: neskelbiama | D27: neskelbiama | F27: neskelbiama | H27: neskelbiama | J27: neskelbiama
A28: 18 | B28: Teisininkai | C28: 909 | D28: 914 | E28: 3 | F28: 926 | G28: 3 | H28: 923 | I28: 3 | J28: neskelbiama | K28: 1 | L28: 921
A29: 19 | B29: Vyriausiasis vertėjas | C29: 499 | D29: 619 | E29: 3 | F29: 691 | G29: 3 | H29: 691 | I29: 3 | J29: 822 | K29: 3 | L29: =(D29+F29+H29+J29)/$N$14 -> 705.75
A30: 20 | B30: Vyriausias specialistas | C30: 891 | D30: 957 | E30: 5 | F30: 876 | G30: 5 | H30: 824 | I30: 5 | J30: 1032 | K30: 5 | L30: =(D30+F30+H30+J30)/$N$14 -> 922.25
A31: 21 | B31: Vyresnysis specialistas | C31: 619 | D31: 646 | E31: 2 | F31: 675 | G31: 2 | H31: 683 | I31: 2 | J31: 820 | K31: 2 | L31: =(D31+F31+H31+J31)/$N$14 -> 706
A32: 22 | B32: Specialistas | C32: 517 | D32: 453 | E32: 2 | F32: 492 | G32: 2 | H32: 476 | I32: 2 | J32: 536 | K32: 2 | L32: =(D32+F32+H32+J32)/$N$14 -> 489.25
A33: 23 | B33: Valytojas | C33: 423 | D33: 409 | E33: 4 | F33: 409 | G33: 4 | H33: 411 | I33: 4 | J33: 471 | K33: 4 | L33: =(D33+F33+H33+J33)/$N$14 -> 425

Sheet 2026 m. I ketv.
B1: Lietuvos apeliacinio teismo teisėjų, valstybės tarnautojų ir darbuotojų, dirbančių pagal darbo sutartis, vidutinis mėnesinis (bruto) darbo užmokestis (DU) su priedais ir priemokomis, neišskaičiavus mokesčių, EUR
B3: Eil. Nr. | C3: Pareigybės pavadinimas | D3: 2025 m. vidutinis darbo užmokestis | E3: 2026 m. | M3: 2026 m. vidutinis darbo užmokestis
E4: Ketvirčiai
E5: I ketvirtis | G5: II ketvirtis | I5: III ketvirtis | K5: IV ketvirtis
E6: Vidutinis darbo užmokestis | F6: Pareigybių skaičius | G6: Vidutinis darbo užmokestis | H6: Pareigybių skaičius | I6: Vidutinis darbo užmokestis | J6: Pareigybių skaičius | K6: Vidutinis darbo užmokestis | L6: Pareigybių skaičius
B7: 1 | C7: 2 | D7: 3 | E7: 4 | F7: 5 | G7: 6 | H7: 7 | I7: 8 | J7: 9 | K7: 10 | L7: 11 | M7: 12
B8: Teisėjai
B9: 1 | C9: Teismo pirmininkas | D9: 7996,43 | E9: 8089,41 | F9: 1
B10: 2 | C10: Teismo skyriaus pirmininkas | D10: 7390,79 | E10: 7423 | F10: 2
B11: 3 | C11: Teismo teisėjas | D11: 6801,18 | E11: 6808,11 | F11: 30
B12: Valstybės tarnautojai
B13: 4 | C13: Teismo pirmininko patarėjas | F13: 1
B14: 5 | C14: Teismo pirmininko padėjėjas | F14: 1
B15: 6 | C15: Teismo pirmininko padėjėjas ryšiams su visuomene | F15: 1
B16: 7 | C16: Skyriaus pirmininko patarėjas | D16: 3252,12 | E16: 3166,64 | F16: 2
B17: 8 | C17: Teisėjo vyresnysis padėjėjas | D17: 2857,04 | E17: 3029,35 | F17: 6
B18: 9 | C18: Teisėjo padėjėjas | D18: 2689,58 | E18: 2658,72 | F18: 51
B19: 10 | C19: Vyriausiasis specialistas (teisininkas) | F19: 1
B20: 11 | C20: Skyriaus vedėjas | D20: 3126,63 | E20: 3307,69 | F20: 2
B21: 12 | C21: Teismų praktikos skyriaus konsultantas | D21: 2617,33 | E21: 2926,06 | F21: 3
B22: 13 | C22: Kancleris | F22: 1
B23: 14 | C23: Vyresnysis patarėjas (vyriausiasis buhalteris) | F23: 1
B24: 15 | C24: Administracijos sekretorius | F24: 1
B25: 16 | C25: Vyriausiasis specialistas | D25: 2331,99 | E25: 2328,50 | F25: 3
B26: 17 | C26: Vyresnysis specialistas | D26: 2091,14 | E26: 2042,18 | F26: 5
B27: 18 | C27: Teismo posėdžių sekretorius | D27: 2252,71 | E27: 1975,16 | F27: 9
B28: Darbuotojai, dirbantys pagal darbo sutartis
B29: 19 | C29: Vyriausiasis specialistas (teisininkas) | D29: 1847,67 | E29: 1833,17 | F29: 4
B30: 20 | C30: Specialistas (teisininkas) | F30: 1
B31: 21 | C31: Teismo kanclerio tarnybos patarėjas | F31: 1
B32: 22 | C32: Specialistas | D32: 1402,00 | E32: 1478,13 | F32: 4
B33: 23 | C33: Personalo administratorius - archyvaras | F33: 1
B34: 24 | C34: Vyriausiasis specialistas | D34: 1766,11 | E34: 1762,04 | F34: 2
B35: 25 | C35: Vyresnysis specialistas (informacinėms technologijoms) | F35: 1
B36: 26 | C36: Vyresnysis specialistas (logistikai) | F36: 1
B37: 27 | C37: Vertėjas (rusų k.) | D37: 1752,64 | E37: 1378,92 | F37: 2
B38: 28 | C38: Teismo raštinės skyriaus teismo sekretorius | F38: 1
B39: 28 | C39: Valytojas | D39: 1087.98 | E39: 1153 | F39: 4
B42: Pastaba. Darbuotojo, kuris vienintelis įstaigoje eina atitinkamas pareigas, praėjusių metų vidutinis mėnesinis nustatytasis (paskirtasis) darbo užmokestis
B43: ir einamųjų metų praėjusio kervirčio vidutinis mėnesinis | F43: nustatytasis (paskirtasis) darbo užmokestis pateikiami tik gavus jo sutikimą (aktualios redakci-
...
